BEGIN:VCALENDAR
VERSION:2.0
PRODID:-//STJSTMM - ECPv6.15.16//NONSGML v1.0//EN
CALSCALE:GREGORIAN
METHOD:PUBLISH
X-ORIGINAL-URL:https://stjstmm.org
X-WR-CALDESC:Events for STJSTMM
REFRESH-INTERVAL;VALUE=DURATION:PT1H
X-Robots-Tag:noindex
X-PUBLISHED-TTL:PT1H
BEGIN:VTIMEZONE
TZID:America/New_York
BEGIN:DAYLIGHT
TZOFFSETFROM:-0500
TZOFFSETTO:-0400
TZNAME:EDT
DTSTART:20230312T070000
END:DAYLIGHT
BEGIN:STANDARD
TZOFFSETFROM:-0400
TZOFFSETTO:-0500
TZNAME:EST
DTSTART:20231105T060000
END:STANDARD
BEGIN:DAYLIGHT
TZOFFSETFROM:-0500
TZOFFSETTO:-0400
TZNAME:EDT
DTSTART:20240310T070000
END:DAYLIGHT
BEGIN:STANDARD
TZOFFSETFROM:-0400
TZOFFSETTO:-0500
TZNAME:EST
DTSTART:20241103T060000
END:STANDARD
BEGIN:DAYLIGHT
TZOFFSETFROM:-0500
TZOFFSETTO:-0400
TZNAME:EDT
DTSTART:20250309T070000
END:DAYLIGHT
BEGIN:STANDARD
TZOFFSETFROM:-0400
TZOFFSETTO:-0500
TZNAME:EST
DTSTART:20251102T060000
END:STANDARD
END:VTIMEZONE
BEGIN:VEVENT
DTSTART;TZID=America/New_York:20240430T060000
DTEND;TZID=America/New_York:20240430T070000
DTSTAMP:20260421T073412
CREATED:20240501T220858Z
LAST-MODIFIED:20240501T220858Z
UID:2089-1714456800-1714460400@stjstmm.org
SUMMARY:Tuesday of Holy Paskha Morning Paskha Noon Paskha Evening Paskha
DESCRIPTION:Paskha
URL:https://stjstmm.org/event/tuesday-of-holy-paskha-morning-paskha-noon-paskha-evening-paskha/
LOCATION:St. John the Beloved and St. Mary Magdalene Coptic Orthodox Church\, 270 Whippany Rd\, Whippany\, New Jersey\, NJ\, 07981\, United States
CATEGORIES:Paskha
END:VEVENT
BEGIN:VEVENT
DTSTART;TZID=America/New_York:20240430T110000
DTEND;TZID=America/New_York:20240430T133000
DTSTAMP:20260421T073412
CREATED:20240501T220859Z
LAST-MODIFIED:20240501T220859Z
UID:2090-1714474800-1714483800@stjstmm.org
SUMMARY:Tuesday of Holy Paskha Morning Paskha Noon Paskha Evening Paskha
DESCRIPTION:Paskha
URL:https://stjstmm.org/event/tuesday-of-holy-paskha-morning-paskha-noon-paskha-evening-paskha-2/
LOCATION:St. John the Beloved and St. Mary Magdalene Coptic Orthodox Church\, 270 Whippany Rd\, Whippany\, New Jersey\, NJ\, 07981\, United States
CATEGORIES:Paskha
END:VEVENT
BEGIN:VEVENT
DTSTART;TZID=America/New_York:20240430T180000
DTEND;TZID=America/New_York:20240430T210000
DTSTAMP:20260421T073412
CREATED:20240501T220859Z
LAST-MODIFIED:20240501T220859Z
UID:2091-1714500000-1714510800@stjstmm.org
SUMMARY:Tuesday of Holy Paskha Morning Paskha Noon Paskha Evening Paskha
DESCRIPTION:Paskha
URL:https://stjstmm.org/event/tuesday-of-holy-paskha-morning-paskha-noon-paskha-evening-paskha-3/
LOCATION:St. John the Beloved and St. Mary Magdalene Coptic Orthodox Church\, 270 Whippany Rd\, Whippany\, New Jersey\, NJ\, 07981\, United States
CATEGORIES:Paskha
END:VEVENT
END:VCALENDAR