BEGIN:VCALENDAR
VERSION:2.0
PRODID:-//STJSTMM - ECPv6.15.16//NONSGML v1.0//EN
CALSCALE:GREGORIAN
METHOD:PUBLISH
X-WR-CALNAME:STJSTMM
X-ORIGINAL-URL:https://stjstmm.org
X-WR-CALDESC:Events for STJSTMM
REFRESH-INTERVAL;VALUE=DURATION:PT1H
X-Robots-Tag:noindex
X-PUBLISHED-TTL:PT1H
BEGIN:VTIMEZONE
TZID:America/New_York
BEGIN:DAYLIGHT
TZOFFSETFROM:-0500
TZOFFSETTO:-0400
TZNAME:EDT
DTSTART:20240310T070000
END:DAYLIGHT
BEGIN:STANDARD
TZOFFSETFROM:-0400
TZOFFSETTO:-0500
TZNAME:EST
DTSTART:20241103T060000
END:STANDARD
BEGIN:DAYLIGHT
TZOFFSETFROM:-0500
TZOFFSETTO:-0400
TZNAME:EDT
DTSTART:20250309T070000
END:DAYLIGHT
BEGIN:STANDARD
TZOFFSETFROM:-0400
TZOFFSETTO:-0500
TZNAME:EST
DTSTART:20251102T060000
END:STANDARD
BEGIN:DAYLIGHT
TZOFFSETFROM:-0500
TZOFFSETTO:-0400
TZNAME:EDT
DTSTART:20260308T070000
END:DAYLIGHT
BEGIN:STANDARD
TZOFFSETFROM:-0400
TZOFFSETTO:-0500
TZNAME:EST
DTSTART:20261101T060000
END:STANDARD
END:VTIMEZONE
BEGIN:VEVENT
DTSTART;TZID=America/New_York:20250316T080000
DTEND;TZID=America/New_York:20250316T110000
DTSTAMP:20260420T214748
CREATED:20250304T003255Z
LAST-MODIFIED:20250304T003255Z
UID:2219-1742112000-1742122800@stjstmm.org
SUMMARY:Sunday Liturgy
DESCRIPTION:Sunday Liturgy
URL:https://stjstmm.org/event/sunday-liturgy-2/
LOCATION:St. John the Beloved and St. Mary Magdalene Coptic Orthodox Church\, 270 Whippany Rd\, Whippany\, New Jersey\, NJ\, 07981\, United States
CATEGORIES:Holy Mass
END:VEVENT
BEGIN:VEVENT
DTSTART;TZID=America/New_York:20250323T080000
DTEND;TZID=America/New_York:20250323T110000
DTSTAMP:20260420T214748
CREATED:20250304T003255Z
LAST-MODIFIED:20250304T003255Z
UID:2220-1742716800-1742727600@stjstmm.org
SUMMARY:Sunday Liturgy
DESCRIPTION:Sunday Liturgy
URL:https://stjstmm.org/event/sunday-liturgy-3/
LOCATION:St. John the Beloved and St. Mary Magdalene Coptic Orthodox Church\, 270 Whippany Rd\, Whippany\, New Jersey\, NJ\, 07981\, United States
CATEGORIES:Holy Mass
END:VEVENT
BEGIN:VEVENT
DTSTART;TZID=America/New_York:20250330T080000
DTEND;TZID=America/New_York:20250330T110000
DTSTAMP:20260420T214748
CREATED:20250304T003255Z
LAST-MODIFIED:20250304T003255Z
UID:2221-1743321600-1743332400@stjstmm.org
SUMMARY:Sunday Liturgy
DESCRIPTION:Sunday Liturgy
URL:https://stjstmm.org/event/sunday-liturgy-4/
LOCATION:St. John the Beloved and St. Mary Magdalene Coptic Orthodox Church\, 270 Whippany Rd\, Whippany\, New Jersey\, NJ\, 07981\, United States
CATEGORIES:Holy Mass
END:VEVENT
BEGIN:VEVENT
DTSTART;TZID=America/New_York:20250406T080000
DTEND;TZID=America/New_York:20250406T110000
DTSTAMP:20260420T214748
CREATED:20250304T003255Z
LAST-MODIFIED:20250304T003255Z
UID:2222-1743926400-1743937200@stjstmm.org
SUMMARY:Sunday Liturgy
DESCRIPTION:Sunday Liturgy
URL:https://stjstmm.org/event/sunday-liturgy-5/
LOCATION:St. John the Beloved and St. Mary Magdalene Coptic Orthodox Church\, 270 Whippany Rd\, Whippany\, New Jersey\, NJ\, 07981\, United States
CATEGORIES:Holy Mass
END:VEVENT
BEGIN:VEVENT
DTSTART;TZID=America/New_York:20250413T080000
DTEND;TZID=America/New_York:20250413T110000
DTSTAMP:20260420T214748
CREATED:20250304T003255Z
LAST-MODIFIED:20250304T003255Z
UID:2223-1744531200-1744542000@stjstmm.org
SUMMARY:Sunday Liturgy
DESCRIPTION:Sunday Liturgy
URL:https://stjstmm.org/event/sunday-liturgy-6/
LOCATION:St. John the Beloved and St. Mary Magdalene Coptic Orthodox Church\, 270 Whippany Rd\, Whippany\, New Jersey\, NJ\, 07981\, United States
CATEGORIES:Holy Mass
END:VEVENT
BEGIN:VEVENT
DTSTART;TZID=America/New_York:20250420T080000
DTEND;TZID=America/New_York:20250420T110000
DTSTAMP:20260420T214748
CREATED:20250304T003257Z
LAST-MODIFIED:20250304T003257Z
UID:2224-1745136000-1745146800@stjstmm.org
SUMMARY:Sunday Liturgy
DESCRIPTION:Sunday Liturgy
URL:https://stjstmm.org/event/sunday-liturgy-7/
LOCATION:St. John the Beloved and St. Mary Magdalene Coptic Orthodox Church\, 270 Whippany Rd\, Whippany\, New Jersey\, NJ\, 07981\, United States
CATEGORIES:Holy Mass
END:VEVENT
BEGIN:VEVENT
DTSTART;TZID=America/New_York:20250427T080000
DTEND;TZID=America/New_York:20250427T110000
DTSTAMP:20260420T214748
CREATED:20250304T003258Z
LAST-MODIFIED:20250304T003258Z
UID:2225-1745740800-1745751600@stjstmm.org
SUMMARY:Sunday Liturgy
DESCRIPTION:Sunday Liturgy
URL:https://stjstmm.org/event/sunday-liturgy-8/
LOCATION:St. John the Beloved and St. Mary Magdalene Coptic Orthodox Church\, 270 Whippany Rd\, Whippany\, New Jersey\, NJ\, 07981\, United States
CATEGORIES:Holy Mass
END:VEVENT
BEGIN:VEVENT
DTSTART;TZID=America/New_York:20250504T080000
DTEND;TZID=America/New_York:20250504T110000
DTSTAMP:20260420T214748
CREATED:20250304T003258Z
LAST-MODIFIED:20250304T003258Z
UID:2226-1746345600-1746356400@stjstmm.org
SUMMARY:Sunday Liturgy
DESCRIPTION:Sunday Liturgy
URL:https://stjstmm.org/event/sunday-liturgy-9/
LOCATION:St. John the Beloved and St. Mary Magdalene Coptic Orthodox Church\, 270 Whippany Rd\, Whippany\, New Jersey\, NJ\, 07981\, United States
CATEGORIES:Holy Mass
END:VEVENT
BEGIN:VEVENT
DTSTART;TZID=America/New_York:20250511T080000
DTEND;TZID=America/New_York:20250511T110000
DTSTAMP:20260420T214748
CREATED:20250304T003258Z
LAST-MODIFIED:20250304T003258Z
UID:2227-1746950400-1746961200@stjstmm.org
SUMMARY:Sunday Liturgy
DESCRIPTION:Sunday Liturgy
URL:https://stjstmm.org/event/sunday-liturgy-10/
LOCATION:St. John the Beloved and St. Mary Magdalene Coptic Orthodox Church\, 270 Whippany Rd\, Whippany\, New Jersey\, NJ\, 07981\, United States
CATEGORIES:Holy Mass
END:VEVENT
BEGIN:VEVENT
DTSTART;TZID=America/New_York:20250518T080000
DTEND;TZID=America/New_York:20250518T110000
DTSTAMP:20260420T214748
CREATED:20250304T003258Z
LAST-MODIFIED:20250304T003258Z
UID:2228-1747555200-1747566000@stjstmm.org
SUMMARY:Sunday Liturgy
DESCRIPTION:Sunday Liturgy
URL:https://stjstmm.org/event/sunday-liturgy-11/
LOCATION:St. John the Beloved and St. Mary Magdalene Coptic Orthodox Church\, 270 Whippany Rd\, Whippany\, New Jersey\, NJ\, 07981\, United States
CATEGORIES:Holy Mass
END:VEVENT
BEGIN:VEVENT
DTSTART;TZID=America/New_York:20250525T080000
DTEND;TZID=America/New_York:20250525T110000
DTSTAMP:20260420T214748
CREATED:20250304T003312Z
LAST-MODIFIED:20250304T003312Z
UID:2229-1748160000-1748170800@stjstmm.org
SUMMARY:Sunday Liturgy
DESCRIPTION:Sunday Liturgy
URL:https://stjstmm.org/event/sunday-liturgy-12/
LOCATION:St. John the Beloved and St. Mary Magdalene Coptic Orthodox Church\, 270 Whippany Rd\, Whippany\, New Jersey\, NJ\, 07981\, United States
CATEGORIES:Holy Mass
END:VEVENT
BEGIN:VEVENT
DTSTART;TZID=America/New_York:20250601T080000
DTEND;TZID=America/New_York:20250601T110000
DTSTAMP:20260420T214748
CREATED:20250304T003312Z
LAST-MODIFIED:20250304T003312Z
UID:2230-1748764800-1748775600@stjstmm.org
SUMMARY:Sunday Liturgy
DESCRIPTION:Sunday Liturgy
URL:https://stjstmm.org/event/sunday-liturgy-13/
LOCATION:St. John the Beloved and St. Mary Magdalene Coptic Orthodox Church\, 270 Whippany Rd\, Whippany\, New Jersey\, NJ\, 07981\, United States
CATEGORIES:Holy Mass
END:VEVENT
BEGIN:VEVENT
DTSTART;TZID=America/New_York:20250608T080000
DTEND;TZID=America/New_York:20250608T110000
DTSTAMP:20260420T214748
CREATED:20250304T003313Z
LAST-MODIFIED:20250304T003313Z
UID:2231-1749369600-1749380400@stjstmm.org
SUMMARY:Sunday Liturgy
DESCRIPTION:Sunday Liturgy
URL:https://stjstmm.org/event/sunday-liturgy-14/
LOCATION:St. John the Beloved and St. Mary Magdalene Coptic Orthodox Church\, 270 Whippany Rd\, Whippany\, New Jersey\, NJ\, 07981\, United States
CATEGORIES:Holy Mass
END:VEVENT
BEGIN:VEVENT
DTSTART;TZID=America/New_York:20250615T080000
DTEND;TZID=America/New_York:20250615T110000
DTSTAMP:20260420T214748
CREATED:20250304T003313Z
LAST-MODIFIED:20250304T003313Z
UID:2232-1749974400-1749985200@stjstmm.org
SUMMARY:Sunday Liturgy
DESCRIPTION:Sunday Liturgy
URL:https://stjstmm.org/event/sunday-liturgy-15/
LOCATION:St. John the Beloved and St. Mary Magdalene Coptic Orthodox Church\, 270 Whippany Rd\, Whippany\, New Jersey\, NJ\, 07981\, United States
CATEGORIES:Holy Mass
END:VEVENT
BEGIN:VEVENT
DTSTART;TZID=America/New_York:20250622T080000
DTEND;TZID=America/New_York:20250622T110000
DTSTAMP:20260420T214748
CREATED:20250304T003313Z
LAST-MODIFIED:20250307T181818Z
UID:2233-1750579200-1750590000@stjstmm.org
SUMMARY:Sunday Liturgy
DESCRIPTION:Sunday Liturgy
URL:https://stjstmm.org/event/sunday-liturgy-16/
LOCATION:St. John the Beloved and St. Mary Magdalene Coptic Orthodox Church\, 270 Whippany Rd\, Whippany\, New Jersey\, NJ\, 07981\, United States
CATEGORIES:Holy Mass
ATTACH;FMTTYPE=image/jpeg:https://stjstmm.org/wp-content/uploads/2025/03/egyptian-coptic-weddings-5-683x1024-1-e1741354490329.jpg
END:VEVENT
END:VCALENDAR