BEGIN:VCALENDAR
VERSION:2.0
PRODID:-//STJSTMM - ECPv6.15.16//NONSGML v1.0//EN
CALSCALE:GREGORIAN
METHOD:PUBLISH
X-ORIGINAL-URL:https://stjstmm.org
X-WR-CALDESC:Events for STJSTMM
REFRESH-INTERVAL;VALUE=DURATION:PT1H
X-Robots-Tag:noindex
X-PUBLISHED-TTL:PT1H
BEGIN:VTIMEZONE
TZID:UTC
BEGIN:STANDARD
TZOFFSETFROM:+0000
TZOFFSETTO:+0000
TZNAME:UTC
DTSTART:20180101T000000
END:STANDARD
END:VTIMEZONE
BEGIN:VEVENT
DTSTART;TZID=UTC:20190422T180000
DTEND;TZID=UTC:20190422T210000
DTSTAMP:20260420T172931
CREATED:20240501T220032Z
LAST-MODIFIED:20240501T220032Z
UID:2031-1555956000-1555966800@stjstmm.org
SUMMARY:Evening Paskha
DESCRIPTION:
URL:https://stjstmm.org/event/evening-paskha-2/
LOCATION:St. John the Beloved and St. Mary Magdalene Coptic Orthodox Church\, 270 Whippany Rd\, Whippany\, New Jersey\, NJ\, 07981\, United States
END:VEVENT
BEGIN:VEVENT
DTSTART;TZID=UTC:20190422T110000
DTEND;TZID=UTC:20190422T133000
DTSTAMP:20260420T172931
CREATED:20240501T220122Z
LAST-MODIFIED:20240501T220122Z
UID:2048-1555930800-1555939800@stjstmm.org
SUMMARY:Noon Paskha
DESCRIPTION:
URL:https://stjstmm.org/event/noon-paskha/
LOCATION:St. John the Beloved and St. Mary Magdalene Coptic Orthodox Church\, 270 Whippany Rd\, Whippany\, New Jersey\, NJ\, 07981\, United States
END:VEVENT
BEGIN:VEVENT
DTSTART;TZID=UTC:20190422T060000
DTEND;TZID=UTC:20190422T070000
DTSTAMP:20260420T172931
CREATED:20240501T220032Z
LAST-MODIFIED:20240501T220032Z
UID:2033-1555912800-1555916400@stjstmm.org
SUMMARY:Morning Paskha
DESCRIPTION:
URL:https://stjstmm.org/event/morning-paskha/
LOCATION:St. John the Beloved and St. Mary Magdalene Coptic Orthodox Church\, 270 Whippany Rd\, Whippany\, New Jersey\, NJ\, 07981\, United States
END:VEVENT
BEGIN:VEVENT
DTSTART;TZID=UTC:20190420T080000
DTEND;TZID=UTC:20190420T103000
DTSTAMP:20260420T172931
CREATED:20240501T220153Z
LAST-MODIFIED:20240501T220153Z
UID:2056-1555747200-1555756200@stjstmm.org
SUMMARY:Midnight Praise (Arabic & English)
DESCRIPTION:
URL:https://stjstmm.org/event/midnight-praise-arabic-english-2/
LOCATION:St. John the Beloved and St. Mary Magdalene Coptic Orthodox Church\, 270 Whippany Rd\, Whippany\, New Jersey\, NJ\, 07981\, United States
END:VEVENT
BEGIN:VEVENT
DTSTART;TZID=UTC:20190419T080000
DTEND;TZID=UTC:20190419T123000
DTSTAMP:20260420T172931
CREATED:20240501T220138Z
LAST-MODIFIED:20240501T220138Z
UID:2053-1555660800-1555677000@stjstmm.org
SUMMARY:End of Lent Friday The Unction & Holy Mass
DESCRIPTION:
URL:https://stjstmm.org/event/end-of-lent-friday-the-unction-holy-mass/
LOCATION:St. John the Beloved and St. Mary Magdalene Coptic Orthodox Church\, 270 Whippany Rd\, Whippany\, New Jersey\, NJ\, 07981\, United States
END:VEVENT
BEGIN:VEVENT
DTSTART;TZID=UTC:20190308T150000
DTEND;TZID=UTC:20190308T180000
DTSTAMP:20260420T172931
CREATED:20240501T220138Z
LAST-MODIFIED:20240501T220138Z
UID:2052-1552057200-1552068000@stjstmm.org
SUMMARY:Holy Liturgy
DESCRIPTION:
URL:https://stjstmm.org/event/holy-liturgy-17/
LOCATION:St. John the Beloved and St. Mary Magdalene Coptic Orthodox Church\, 270 Whippany Rd\, Whippany\, New Jersey\, NJ\, 07981\, United States
END:VEVENT
BEGIN:VEVENT
DTSTART;TZID=UTC:20190219T170000
DTEND;TZID=UTC:20190219T193000
DTSTAMP:20260420T172931
CREATED:20240501T220121Z
LAST-MODIFIED:20240501T220121Z
UID:2046-1550595600-1550604600@stjstmm.org
SUMMARY:Holy liturgy
DESCRIPTION:
URL:https://stjstmm.org/event/holy-liturgy-13/
LOCATION:St. John the Beloved and St. Mary Magdalene Coptic Orthodox Church\, 270 Whippany Rd\, Whippany\, New Jersey\, NJ\, 07981\, United States
END:VEVENT
BEGIN:VEVENT
DTSTART;TZID=UTC:20190218T150000
DTEND;TZID=UTC:20190218T173000
DTSTAMP:20260420T172931
CREATED:20240501T220105Z
LAST-MODIFIED:20240501T220105Z
UID:2044-1550502000-1550511000@stjstmm.org
SUMMARY:Holy Liturgy
DESCRIPTION:
URL:https://stjstmm.org/event/holy-liturgy-12/
LOCATION:St. John the Beloved and St. Mary Magdalene Coptic Orthodox Church\, 270 Whippany Rd\, Whippany\, New Jersey\, NJ\, 07981\, United States
END:VEVENT
BEGIN:VEVENT
DTSTART;TZID=UTC:20190215T130000
DTEND;TZID=UTC:20190215T153000
DTSTAMP:20260420T172931
CREATED:20240501T220006Z
LAST-MODIFIED:20240501T220006Z
UID:2025-1550235600-1550244600@stjstmm.org
SUMMARY:Liturgy (Jesus entering the Temple)
DESCRIPTION:
URL:https://stjstmm.org/event/liturgy-jesus-entering-the-temple/
LOCATION:St. John the Beloved and St. Mary Magdalene Coptic Orthodox Church\, 270 Whippany Rd\, Whippany\, New Jersey\, NJ\, 07981\, United States
END:VEVENT
BEGIN:VEVENT
DTSTART;TZID=UTC:20190209T180000
DTEND;TZID=UTC:20190209T190000
DTSTAMP:20260420T172931
CREATED:20240501T220138Z
LAST-MODIFIED:20240501T220138Z
UID:2055-1549735200-1549738800@stjstmm.org
SUMMARY:Midnight Praise (Arabic & English)
DESCRIPTION:
URL:https://stjstmm.org/event/midnight-praise-arabic-english/
LOCATION:St. John the Beloved and St. Mary Magdalene Coptic Orthodox Church\, 270 Whippany Rd\, Whippany\, New Jersey\, NJ\, 07981\, United States
END:VEVENT
END:VCALENDAR