BEGIN:VCALENDAR
VERSION:2.0
PRODID:-//STJSTMM - ECPv6.15.16//NONSGML v1.0//EN
CALSCALE:GREGORIAN
METHOD:PUBLISH
X-WR-CALNAME:STJSTMM
X-ORIGINAL-URL:https://stjstmm.org
X-WR-CALDESC:Events for STJSTMM
REFRESH-INTERVAL;VALUE=DURATION:PT1H
X-Robots-Tag:noindex
X-PUBLISHED-TTL:PT1H
BEGIN:VTIMEZONE
TZID:UTC
BEGIN:STANDARD
TZOFFSETFROM:+0000
TZOFFSETTO:+0000
TZNAME:UTC
DTSTART:20200101T000000
END:STANDARD
END:VTIMEZONE
BEGIN:VEVENT
DTSTART;TZID=UTC:20210529T120000
DTEND;TZID=UTC:20210529T143000
DTSTAMP:20260421T015317
CREATED:20240501T220205Z
LAST-MODIFIED:20240501T220205Z
UID:2065-1622289600-1622298600@stjstmm.org
SUMMARY:May Liturgy Registration
DESCRIPTION:
URL:https://stjstmm.org/event/may-liturgy-registration-2/
LOCATION:St. John the Beloved and St. Mary Magdalene Coptic Orthodox Church\, 270 Whippany Rd\, Whippany\, New Jersey\, NJ\, 07981\, United States
END:VEVENT
BEGIN:VEVENT
DTSTART;TZID=UTC:20210529T120000
DTEND;TZID=UTC:20210529T130000
DTSTAMP:20260421T015317
CREATED:20240501T220204Z
LAST-MODIFIED:20240501T220204Z
UID:2061-1622289600-1622293200@stjstmm.org
SUMMARY:Family Fun Day
DESCRIPTION:
URL:https://stjstmm.org/event/family-fun-day/
LOCATION:St. John the Beloved and St. Mary Magdalene Coptic Orthodox Church\, 270 Whippany Rd\, Whippany\, New Jersey\, NJ\, 07981\, United States
END:VEVENT
BEGIN:VEVENT
DTSTART;TZID=UTC:20210523T120000
DTEND;TZID=UTC:20210523T150000
DTSTAMP:20260421T015317
CREATED:20240501T220622Z
LAST-MODIFIED:20240501T220622Z
UID:2077-1621771200-1621782000@stjstmm.org
SUMMARY:May Liturgy Registration
DESCRIPTION:
URL:https://stjstmm.org/event/may-liturgy-registration-4/
LOCATION:St. John the Beloved and St. Mary Magdalene Coptic Orthodox Church\, 270 Whippany Rd\, Whippany\, New Jersey\, NJ\, 07981\, United States
END:VEVENT
BEGIN:VEVENT
DTSTART;TZID=UTC:20210514T120000
DTEND;TZID=UTC:20210514T143000
DTSTAMP:20260421T015317
CREATED:20240501T220205Z
LAST-MODIFIED:20240501T220205Z
UID:2064-1620993600-1621002600@stjstmm.org
SUMMARY:May Liturgy Registration
DESCRIPTION:
URL:https://stjstmm.org/event/may-liturgy-registration/
LOCATION:St. John the Beloved and St. Mary Magdalene Coptic Orthodox Church\, 270 Whippany Rd\, Whippany\, New Jersey\, NJ\, 07981\, United States
END:VEVENT
BEGIN:VEVENT
DTSTART;TZID=UTC:20210509T120000
DTEND;TZID=UTC:20210509T150000
DTSTAMP:20260421T015317
CREATED:20240501T220622Z
LAST-MODIFIED:20240501T220622Z
UID:2080-1620561600-1620572400@stjstmm.org
SUMMARY:May Liturgy Registration
DESCRIPTION:
URL:https://stjstmm.org/event/may-liturgy-registration-5/
LOCATION:St. John the Beloved and St. Mary Magdalene Coptic Orthodox Church\, 270 Whippany Rd\, Whippany\, New Jersey\, NJ\, 07981\, United States
END:VEVENT
BEGIN:VEVENT
DTSTART;TZID=UTC:20210502T144500
DTEND;TZID=UTC:20210502T174500
DTSTAMP:20260421T015317
CREATED:20240501T215910Z
LAST-MODIFIED:20240501T215910Z
UID:2003-1619966700-1619977500@stjstmm.org
SUMMARY:Easter Party
DESCRIPTION:
URL:https://stjstmm.org/event/easter-party/
LOCATION:St. John the Beloved and St. Mary Magdalene Coptic Orthodox Church\, 270 Whippany Rd\, Whippany\, New Jersey\, NJ\, 07981\, United States
END:VEVENT
BEGIN:VEVENT
DTSTART;TZID=UTC:20210501T223000
DTEND;TZID=UTC:20210502T041500
DTSTAMP:20260421T015317
CREATED:20240501T215854Z
LAST-MODIFIED:20240501T215854Z
UID:2000-1619908200-1619928900@stjstmm.org
SUMMARY:Holy Resurrection Feast Liturgy
DESCRIPTION:
URL:https://stjstmm.org/event/holy-resurrection-feast-liturgy/
LOCATION:St. John the Beloved and St. Mary Magdalene Coptic Orthodox Church\, 270 Whippany Rd\, Whippany\, New Jersey\, NJ\, 07981\, United States
END:VEVENT
BEGIN:VEVENT
DTSTART;TZID=UTC:20210430T120000
DTEND;TZID=UTC:20210430T213000
DTSTAMP:20260421T015317
CREATED:20240501T215853Z
LAST-MODIFIED:20240501T215853Z
UID:1999-1619784000-1619818200@stjstmm.org
SUMMARY:Good Friday
DESCRIPTION:
URL:https://stjstmm.org/event/good-friday/
LOCATION:St. John the Beloved and St. Mary Magdalene Coptic Orthodox Church\, 270 Whippany Rd\, Whippany\, New Jersey\, NJ\, 07981\, United States
END:VEVENT
BEGIN:VEVENT
DTSTART;TZID=UTC:20210425T170000
DTEND;TZID=UTC:20210425T200000
DTSTAMP:20260421T015317
CREATED:20240501T215853Z
LAST-MODIFIED:20240501T215853Z
UID:1998-1619370000-1619380800@stjstmm.org
SUMMARY:Palm Sunday Liturgy Registration
DESCRIPTION:
URL:https://stjstmm.org/event/palm-sunday-liturgy-registration/
LOCATION:St. John the Beloved and St. Mary Magdalene Coptic Orthodox Church\, 270 Whippany Rd\, Whippany\, New Jersey\, NJ\, 07981\, United States
END:VEVENT
BEGIN:VEVENT
DTSTART;TZID=UTC:20210425T120000
DTEND;TZID=UTC:20210425T170000
DTSTAMP:20260421T015317
CREATED:20240501T215909Z
LAST-MODIFIED:20240501T215909Z
UID:2001-1619352000-1619370000@stjstmm.org
SUMMARY:Palm Sunday Liturgy Registration
DESCRIPTION:
URL:https://stjstmm.org/event/palm-sunday-liturgy-registration-2/
LOCATION:St. John the Beloved and St. Mary Magdalene Coptic Orthodox Church\, 270 Whippany Rd\, Whippany\, New Jersey\, NJ\, 07981\, United States
END:VEVENT
BEGIN:VEVENT
DTSTART;TZID=UTC:20210423T220000
DTEND;TZID=UTC:20210424T000000
DTSTAMP:20260421T015317
CREATED:20240501T215926Z
LAST-MODIFIED:20240501T215926Z
UID:2010-1619215200-1619222400@stjstmm.org
SUMMARY:Covid-19 Vaccination
DESCRIPTION:
URL:https://stjstmm.org/event/covid-19-vaccination/
LOCATION:St. John the Beloved and St. Mary Magdalene Coptic Orthodox Church\, 270 Whippany Rd\, Whippany\, New Jersey\, NJ\, 07981\, United States
END:VEVENT
BEGIN:VEVENT
DTSTART;TZID=UTC:20210421T090000
DTEND;TZID=UTC:20210421T110000
DTSTAMP:20260421T015317
CREATED:20240501T215926Z
LAST-MODIFIED:20240501T215926Z
UID:2009-1618995600-1619002800@stjstmm.org
SUMMARY:April Liturgy Registration
DESCRIPTION:
URL:https://stjstmm.org/event/april-liturgy-registration-8/
LOCATION:St. John the Beloved and St. Mary Magdalene Coptic Orthodox Church\, 270 Whippany Rd\, Whippany\, New Jersey\, NJ\, 07981\, United States
END:VEVENT
BEGIN:VEVENT
DTSTART;TZID=UTC:20210418T160000
DTEND;TZID=UTC:20210418T180000
DTSTAMP:20260421T015317
CREATED:20240501T215942Z
LAST-MODIFIED:20240501T215942Z
UID:2012-1618761600-1618768800@stjstmm.org
SUMMARY:Covid-19 Vaccination
DESCRIPTION:
URL:https://stjstmm.org/event/covid-19-vaccination-2/
LOCATION:NJ
END:VEVENT
BEGIN:VEVENT
DTSTART;TZID=UTC:20210418T120000
DTEND;TZID=UTC:20210418T150000
DTSTAMP:20260421T015317
CREATED:20240501T215926Z
LAST-MODIFIED:20240501T215926Z
UID:2008-1618747200-1618758000@stjstmm.org
SUMMARY:April Liturgy Registration
DESCRIPTION:
URL:https://stjstmm.org/event/april-liturgy-registration-7/
LOCATION:St. John the Beloved and St. Mary Magdalene Coptic Orthodox Church\, 270 Whippany Rd\, Whippany\, New Jersey\, NJ\, 07981\, United States
END:VEVENT
BEGIN:VEVENT
DTSTART;TZID=UTC:20210417T120000
DTEND;TZID=UTC:20210417T153000
DTSTAMP:20260421T015317
CREATED:20240501T215853Z
LAST-MODIFIED:20240501T215853Z
UID:1997-1618660800-1618673400@stjstmm.org
SUMMARY:April Liturgy Registration
DESCRIPTION:
URL:https://stjstmm.org/event/april-liturgy-registration/
LOCATION:St. John the Beloved and St. Mary Magdalene Coptic Orthodox Church\, 270 Whippany Rd\, Whippany\, New Jersey\, NJ\, 07981\, United States
END:VEVENT
BEGIN:VEVENT
DTSTART;TZID=UTC:20210416T190000
DTEND;TZID=UTC:20210416T220000
DTSTAMP:20260421T015317
CREATED:20240501T215926Z
LAST-MODIFIED:20240501T215926Z
UID:2007-1618599600-1618610400@stjstmm.org
SUMMARY:April Liturgy Registration
DESCRIPTION:
URL:https://stjstmm.org/event/april-liturgy-registration-6/
LOCATION:St. John the Beloved and St. Mary Magdalene Coptic Orthodox Church\, 270 Whippany Rd\, Whippany\, New Jersey\, NJ\, 07981\, United States
END:VEVENT
BEGIN:VEVENT
DTSTART;TZID=UTC:20210414T090000
DTEND;TZID=UTC:20210414T110000
DTSTAMP:20260421T015317
CREATED:20240501T215910Z
LAST-MODIFIED:20240501T215910Z
UID:2002-1618390800-1618398000@stjstmm.org
SUMMARY:April Liturgy Registration
DESCRIPTION:
URL:https://stjstmm.org/event/april-liturgy-registration-2/
LOCATION:St. John the Beloved and St. Mary Magdalene Coptic Orthodox Church\, 270 Whippany Rd\, Whippany\, New Jersey\, NJ\, 07981\, United States
END:VEVENT
BEGIN:VEVENT
DTSTART;TZID=UTC:20210411T120000
DTEND;TZID=UTC:20210411T150000
DTSTAMP:20260421T015317
CREATED:20240501T215926Z
LAST-MODIFIED:20240501T215926Z
UID:2006-1618142400-1618153200@stjstmm.org
SUMMARY:April Liturgy Registration
DESCRIPTION:
URL:https://stjstmm.org/event/april-liturgy-registration-5/
LOCATION:St. John the Beloved and St. Mary Magdalene Coptic Orthodox Church\, 270 Whippany Rd\, Whippany\, New Jersey\, NJ\, 07981\, United States
END:VEVENT
BEGIN:VEVENT
DTSTART;TZID=UTC:20210409T190000
DTEND;TZID=UTC:20210409T220000
DTSTAMP:20260421T015317
CREATED:20240501T215910Z
LAST-MODIFIED:20240501T215910Z
UID:2004-1617994800-1618005600@stjstmm.org
SUMMARY:April Liturgy Registration
DESCRIPTION:
URL:https://stjstmm.org/event/april-liturgy-registration-3/
LOCATION:St. John the Beloved and St. Mary Magdalene Coptic Orthodox Church\, 270 Whippany Rd\, Whippany\, New Jersey\, NJ\, 07981\, United States
END:VEVENT
BEGIN:VEVENT
DTSTART;TZID=UTC:20210404T120000
DTEND;TZID=UTC:20210404T150000
DTSTAMP:20260421T015317
CREATED:20240501T215910Z
LAST-MODIFIED:20240501T215910Z
UID:2005-1617537600-1617548400@stjstmm.org
SUMMARY:April Liturgy Registration
DESCRIPTION:
URL:https://stjstmm.org/event/april-liturgy-registration-4/
LOCATION:St. John the Beloved and St. Mary Magdalene Coptic Orthodox Church\, 270 Whippany Rd\, Whippany\, New Jersey\, NJ\, 07981\, United States
END:VEVENT
BEGIN:VEVENT
DTSTART;TZID=UTC:20210402T190000
DTEND;TZID=UTC:20210402T220000
DTSTAMP:20260421T015317
CREATED:20240501T215942Z
LAST-MODIFIED:20240501T215942Z
UID:2011-1617390000-1617400800@stjstmm.org
SUMMARY:April Liturgy Registration
DESCRIPTION:
URL:https://stjstmm.org/event/april-liturgy-registration-9/
LOCATION:St. John the Beloved and St. Mary Magdalene Coptic Orthodox Church\, 270 Whippany Rd\, Whippany\, New Jersey\, NJ\, 07981\, United States
END:VEVENT
BEGIN:VEVENT
DTSTART;TZID=UTC:20210328T120000
DTEND;TZID=UTC:20210328T150000
DTSTAMP:20260421T015317
CREATED:20240501T203157Z
LAST-MODIFIED:20240501T203157Z
UID:1988-1616932800-1616943600@stjstmm.org
SUMMARY:March Liturgy Registration
DESCRIPTION:
URL:https://stjstmm.org/event/march-liturgy-registration-5/
LOCATION:St. John the Beloved and St. Mary Magdalene Coptic Orthodox Church\, 270 Whippany Rd\, Whippany\, New Jersey\, NJ\, 07981\, United States
END:VEVENT
BEGIN:VEVENT
DTSTART;TZID=UTC:20210327T120000
DTEND;TZID=UTC:20210327T143000
DTSTAMP:20260421T015317
CREATED:20240501T203157Z
LAST-MODIFIED:20240501T203157Z
UID:1987-1616846400-1616855400@stjstmm.org
SUMMARY:March Liturgy Registration
DESCRIPTION:
URL:https://stjstmm.org/event/march-liturgy-registration-4/
LOCATION:St. John the Beloved and St. Mary Magdalene Coptic Orthodox Church\, 270 Whippany Rd\, Whippany\, New Jersey\, NJ\, 07981\, United States
END:VEVENT
BEGIN:VEVENT
DTSTART;TZID=UTC:20210326T190000
DTEND;TZID=UTC:20210326T220000
DTSTAMP:20260421T015317
CREATED:20240501T212157Z
LAST-MODIFIED:20240501T212157Z
UID:1992-1616785200-1616796000@stjstmm.org
SUMMARY:March Liturgy Registration
DESCRIPTION:
URL:https://stjstmm.org/event/march-liturgy-registration-8/
LOCATION:St. John the Beloved and St. Mary Magdalene Coptic Orthodox Church\, 270 Whippany Rd\, Whippany\, New Jersey\, NJ\, 07981\, United States
END:VEVENT
BEGIN:VEVENT
DTSTART;TZID=UTC:20210321T120000
DTEND;TZID=UTC:20210321T150000
DTSTAMP:20260421T015317
CREATED:20240501T203157Z
LAST-MODIFIED:20240501T203157Z
UID:1986-1616328000-1616338800@stjstmm.org
SUMMARY:March Liturgy Registration
DESCRIPTION:
URL:https://stjstmm.org/event/march-liturgy-registration-3/
LOCATION:St. John the Beloved and St. Mary Magdalene Coptic Orthodox Church\, 270 Whippany Rd\, Whippany\, New Jersey\, NJ\, 07981\, United States
END:VEVENT
BEGIN:VEVENT
DTSTART;TZID=UTC:20210319T120000
DTEND;TZID=UTC:20210319T143000
DTSTAMP:20260421T015317
CREATED:20240501T212156Z
LAST-MODIFIED:20240501T212156Z
UID:1991-1616155200-1616164200@stjstmm.org
SUMMARY:March Liturgy Registration
DESCRIPTION:
URL:https://stjstmm.org/event/march-liturgy-registration-7/
LOCATION:St. John the Beloved and St. Mary Magdalene Coptic Orthodox Church\, 270 Whippany Rd\, Whippany\, New Jersey\, NJ\, 07981\, United States
END:VEVENT
BEGIN:VEVENT
DTSTART;TZID=UTC:20210317T090000
DTEND;TZID=UTC:20210317T110000
DTSTAMP:20260421T015317
CREATED:20240501T215853Z
LAST-MODIFIED:20240501T215853Z
UID:1996-1615971600-1615978800@stjstmm.org
SUMMARY:March Liturgy Registration
DESCRIPTION:
URL:https://stjstmm.org/event/march-liturgy-registration-12/
LOCATION:St. John the Beloved and St. Mary Magdalene Coptic Orthodox Church\, 270 Whippany Rd\, Whippany\, New Jersey\, NJ\, 07981\, United States
END:VEVENT
BEGIN:VEVENT
DTSTART;TZID=UTC:20210314T120000
DTEND;TZID=UTC:20210314T150000
DTSTAMP:20260421T015317
CREATED:20240501T193247Z
LAST-MODIFIED:20240501T193247Z
UID:1984-1615723200-1615734000@stjstmm.org
SUMMARY:March Liturgy Registration
DESCRIPTION:
URL:https://stjstmm.org/event/march-liturgy-registration/
LOCATION:St. John the Beloved and St. Mary Magdalene Coptic Orthodox Church\, 270 Whippany Rd\, Whippany\, New Jersey\, NJ\, 07981\, United States
END:VEVENT
BEGIN:VEVENT
DTSTART;TZID=UTC:20210312T200000
DTEND;TZID=UTC:20210312T230000
DTSTAMP:20260421T015317
CREATED:20240501T203157Z
LAST-MODIFIED:20240501T203157Z
UID:1989-1615579200-1615590000@stjstmm.org
SUMMARY:March Liturgy Registration
DESCRIPTION:
URL:https://stjstmm.org/event/march-liturgy-registration-6/
LOCATION:St. John the Beloved and St. Mary Magdalene Coptic Orthodox Church\, 270 Whippany Rd\, Whippany\, New Jersey\, NJ\, 07981\, United States
END:VEVENT
BEGIN:VEVENT
DTSTART;TZID=UTC:20210310T100000
DTEND;TZID=UTC:20210310T120000
DTSTAMP:20260421T015317
CREATED:20240501T212157Z
LAST-MODIFIED:20240501T212157Z
UID:1995-1615370400-1615377600@stjstmm.org
SUMMARY:March Liturgy Registration
DESCRIPTION:
URL:https://stjstmm.org/event/march-liturgy-registration-11/
LOCATION:St. John the Beloved and St. Mary Magdalene Coptic Orthodox Church\, 270 Whippany Rd\, Whippany\, New Jersey\, NJ\, 07981\, United States
END:VEVENT
END:VCALENDAR