BEGIN:VCALENDAR
VERSION:2.0
PRODID:-//STJSTMM - ECPv6.15.16//NONSGML v1.0//EN
CALSCALE:GREGORIAN
METHOD:PUBLISH
X-WR-CALNAME:STJSTMM
X-ORIGINAL-URL:https://stjstmm.org
X-WR-CALDESC:Events for STJSTMM
REFRESH-INTERVAL;VALUE=DURATION:PT1H
X-Robots-Tag:noindex
X-PUBLISHED-TTL:PT1H
BEGIN:VTIMEZONE
TZID:UTC
BEGIN:STANDARD
TZOFFSETFROM:+0000
TZOFFSETTO:+0000
TZNAME:UTC
DTSTART:20190101T000000
END:STANDARD
END:VTIMEZONE
BEGIN:VEVENT
DTSTART;TZID=UTC:20210414T090000
DTEND;TZID=UTC:20210414T110000
DTSTAMP:20260420T110014
CREATED:20240501T215910Z
LAST-MODIFIED:20240501T215910Z
UID:2002-1618390800-1618398000@stjstmm.org
SUMMARY:April Liturgy Registration
DESCRIPTION:
URL:https://stjstmm.org/event/april-liturgy-registration-2/
LOCATION:St. John the Beloved and St. Mary Magdalene Coptic Orthodox Church\, 270 Whippany Rd\, Whippany\, New Jersey\, NJ\, 07981\, United States
END:VEVENT
BEGIN:VEVENT
DTSTART;TZID=UTC:20210411T120000
DTEND;TZID=UTC:20210411T150000
DTSTAMP:20260420T110014
CREATED:20240501T215926Z
LAST-MODIFIED:20240501T215926Z
UID:2006-1618142400-1618153200@stjstmm.org
SUMMARY:April Liturgy Registration
DESCRIPTION:
URL:https://stjstmm.org/event/april-liturgy-registration-5/
LOCATION:St. John the Beloved and St. Mary Magdalene Coptic Orthodox Church\, 270 Whippany Rd\, Whippany\, New Jersey\, NJ\, 07981\, United States
END:VEVENT
BEGIN:VEVENT
DTSTART;TZID=UTC:20210409T190000
DTEND;TZID=UTC:20210409T220000
DTSTAMP:20260420T110014
CREATED:20240501T215910Z
LAST-MODIFIED:20240501T215910Z
UID:2004-1617994800-1618005600@stjstmm.org
SUMMARY:April Liturgy Registration
DESCRIPTION:
URL:https://stjstmm.org/event/april-liturgy-registration-3/
LOCATION:St. John the Beloved and St. Mary Magdalene Coptic Orthodox Church\, 270 Whippany Rd\, Whippany\, New Jersey\, NJ\, 07981\, United States
END:VEVENT
BEGIN:VEVENT
DTSTART;TZID=UTC:20210404T120000
DTEND;TZID=UTC:20210404T150000
DTSTAMP:20260420T110014
CREATED:20240501T215910Z
LAST-MODIFIED:20240501T215910Z
UID:2005-1617537600-1617548400@stjstmm.org
SUMMARY:April Liturgy Registration
DESCRIPTION:
URL:https://stjstmm.org/event/april-liturgy-registration-4/
LOCATION:St. John the Beloved and St. Mary Magdalene Coptic Orthodox Church\, 270 Whippany Rd\, Whippany\, New Jersey\, NJ\, 07981\, United States
END:VEVENT
BEGIN:VEVENT
DTSTART;TZID=UTC:20210402T190000
DTEND;TZID=UTC:20210402T220000
DTSTAMP:20260420T110014
CREATED:20240501T215942Z
LAST-MODIFIED:20240501T215942Z
UID:2011-1617390000-1617400800@stjstmm.org
SUMMARY:April Liturgy Registration
DESCRIPTION:
URL:https://stjstmm.org/event/april-liturgy-registration-9/
LOCATION:St. John the Beloved and St. Mary Magdalene Coptic Orthodox Church\, 270 Whippany Rd\, Whippany\, New Jersey\, NJ\, 07981\, United States
END:VEVENT
BEGIN:VEVENT
DTSTART;TZID=UTC:20210328T120000
DTEND;TZID=UTC:20210328T150000
DTSTAMP:20260420T110014
CREATED:20240501T203157Z
LAST-MODIFIED:20240501T203157Z
UID:1988-1616932800-1616943600@stjstmm.org
SUMMARY:March Liturgy Registration
DESCRIPTION:
URL:https://stjstmm.org/event/march-liturgy-registration-5/
LOCATION:St. John the Beloved and St. Mary Magdalene Coptic Orthodox Church\, 270 Whippany Rd\, Whippany\, New Jersey\, NJ\, 07981\, United States
END:VEVENT
BEGIN:VEVENT
DTSTART;TZID=UTC:20210327T120000
DTEND;TZID=UTC:20210327T143000
DTSTAMP:20260420T110014
CREATED:20240501T203157Z
LAST-MODIFIED:20240501T203157Z
UID:1987-1616846400-1616855400@stjstmm.org
SUMMARY:March Liturgy Registration
DESCRIPTION:
URL:https://stjstmm.org/event/march-liturgy-registration-4/
LOCATION:St. John the Beloved and St. Mary Magdalene Coptic Orthodox Church\, 270 Whippany Rd\, Whippany\, New Jersey\, NJ\, 07981\, United States
END:VEVENT
BEGIN:VEVENT
DTSTART;TZID=UTC:20210326T190000
DTEND;TZID=UTC:20210326T220000
DTSTAMP:20260420T110014
CREATED:20240501T212157Z
LAST-MODIFIED:20240501T212157Z
UID:1992-1616785200-1616796000@stjstmm.org
SUMMARY:March Liturgy Registration
DESCRIPTION:
URL:https://stjstmm.org/event/march-liturgy-registration-8/
LOCATION:St. John the Beloved and St. Mary Magdalene Coptic Orthodox Church\, 270 Whippany Rd\, Whippany\, New Jersey\, NJ\, 07981\, United States
END:VEVENT
BEGIN:VEVENT
DTSTART;TZID=UTC:20210321T120000
DTEND;TZID=UTC:20210321T150000
DTSTAMP:20260420T110014
CREATED:20240501T203157Z
LAST-MODIFIED:20240501T203157Z
UID:1986-1616328000-1616338800@stjstmm.org
SUMMARY:March Liturgy Registration
DESCRIPTION:
URL:https://stjstmm.org/event/march-liturgy-registration-3/
LOCATION:St. John the Beloved and St. Mary Magdalene Coptic Orthodox Church\, 270 Whippany Rd\, Whippany\, New Jersey\, NJ\, 07981\, United States
END:VEVENT
BEGIN:VEVENT
DTSTART;TZID=UTC:20210319T120000
DTEND;TZID=UTC:20210319T143000
DTSTAMP:20260420T110014
CREATED:20240501T212156Z
LAST-MODIFIED:20240501T212156Z
UID:1991-1616155200-1616164200@stjstmm.org
SUMMARY:March Liturgy Registration
DESCRIPTION:
URL:https://stjstmm.org/event/march-liturgy-registration-7/
LOCATION:St. John the Beloved and St. Mary Magdalene Coptic Orthodox Church\, 270 Whippany Rd\, Whippany\, New Jersey\, NJ\, 07981\, United States
END:VEVENT
BEGIN:VEVENT
DTSTART;TZID=UTC:20210317T090000
DTEND;TZID=UTC:20210317T110000
DTSTAMP:20260420T110014
CREATED:20240501T215853Z
LAST-MODIFIED:20240501T215853Z
UID:1996-1615971600-1615978800@stjstmm.org
SUMMARY:March Liturgy Registration
DESCRIPTION:
URL:https://stjstmm.org/event/march-liturgy-registration-12/
LOCATION:St. John the Beloved and St. Mary Magdalene Coptic Orthodox Church\, 270 Whippany Rd\, Whippany\, New Jersey\, NJ\, 07981\, United States
END:VEVENT
BEGIN:VEVENT
DTSTART;TZID=UTC:20210314T120000
DTEND;TZID=UTC:20210314T150000
DTSTAMP:20260420T110014
CREATED:20240501T193247Z
LAST-MODIFIED:20240501T193247Z
UID:1984-1615723200-1615734000@stjstmm.org
SUMMARY:March Liturgy Registration
DESCRIPTION:
URL:https://stjstmm.org/event/march-liturgy-registration/
LOCATION:St. John the Beloved and St. Mary Magdalene Coptic Orthodox Church\, 270 Whippany Rd\, Whippany\, New Jersey\, NJ\, 07981\, United States
END:VEVENT
BEGIN:VEVENT
DTSTART;TZID=UTC:20210312T200000
DTEND;TZID=UTC:20210312T230000
DTSTAMP:20260420T110014
CREATED:20240501T203157Z
LAST-MODIFIED:20240501T203157Z
UID:1989-1615579200-1615590000@stjstmm.org
SUMMARY:March Liturgy Registration
DESCRIPTION:
URL:https://stjstmm.org/event/march-liturgy-registration-6/
LOCATION:St. John the Beloved and St. Mary Magdalene Coptic Orthodox Church\, 270 Whippany Rd\, Whippany\, New Jersey\, NJ\, 07981\, United States
END:VEVENT
BEGIN:VEVENT
DTSTART;TZID=UTC:20210310T100000
DTEND;TZID=UTC:20210310T120000
DTSTAMP:20260420T110014
CREATED:20240501T212157Z
LAST-MODIFIED:20240501T212157Z
UID:1995-1615370400-1615377600@stjstmm.org
SUMMARY:March Liturgy Registration
DESCRIPTION:
URL:https://stjstmm.org/event/march-liturgy-registration-11/
LOCATION:St. John the Beloved and St. Mary Magdalene Coptic Orthodox Church\, 270 Whippany Rd\, Whippany\, New Jersey\, NJ\, 07981\, United States
END:VEVENT
BEGIN:VEVENT
DTSTART;TZID=UTC:20210307T130000
DTEND;TZID=UTC:20210307T160000
DTSTAMP:20260420T110014
CREATED:20240501T203156Z
LAST-MODIFIED:20240501T203156Z
UID:1985-1615122000-1615132800@stjstmm.org
SUMMARY:March Liturgy Registration
DESCRIPTION:
URL:https://stjstmm.org/event/march-liturgy-registration-2/
LOCATION:St. John the Beloved and St. Mary Magdalene Coptic Orthodox Church\, 270 Whippany Rd\, Whippany\, New Jersey\, NJ\, 07981\, United States
END:VEVENT
BEGIN:VEVENT
DTSTART;TZID=UTC:20210305T130000
DTEND;TZID=UTC:20210305T153000
DTSTAMP:20260420T110014
CREATED:20240501T212157Z
LAST-MODIFIED:20240501T212157Z
UID:1993-1614949200-1614958200@stjstmm.org
SUMMARY:March Liturgy Registration
DESCRIPTION:
URL:https://stjstmm.org/event/march-liturgy-registration-9/
LOCATION:St. John the Beloved and St. Mary Magdalene Coptic Orthodox Church\, 270 Whippany Rd\, Whippany\, New Jersey\, NJ\, 07981\, United States
END:VEVENT
BEGIN:VEVENT
DTSTART;TZID=UTC:20210303T100000
DTEND;TZID=UTC:20210303T120000
DTSTAMP:20260420T110014
CREATED:20240501T212157Z
LAST-MODIFIED:20240501T212157Z
UID:1994-1614765600-1614772800@stjstmm.org
SUMMARY:March Liturgy Registration
DESCRIPTION:
URL:https://stjstmm.org/event/march-liturgy-registration-10/
LOCATION:St. John the Beloved and St. Mary Magdalene Coptic Orthodox Church\, 270 Whippany Rd\, Whippany\, New Jersey\, NJ\, 07981\, United States
END:VEVENT
BEGIN:VEVENT
DTSTART;TZID=UTC:20210131T130000
DTEND;TZID=UTC:20210131T153000
DTSTAMP:20260420T110014
CREATED:20240501T193247Z
LAST-MODIFIED:20240501T193247Z
UID:1983-1612098000-1612107000@stjstmm.org
SUMMARY:Liturgy Registration Form
DESCRIPTION:
URL:https://stjstmm.org/event/liturgy-registration-form-7/
LOCATION:St. John the Beloved and St. Mary Magdalene Coptic Orthodox Church\, 270 Whippany Rd\, Whippany\, New Jersey\, NJ\, 07981\, United States
END:VEVENT
BEGIN:VEVENT
DTSTART;TZID=UTC:20210130T130000
DTEND;TZID=UTC:20210130T153000
DTSTAMP:20260420T110014
CREATED:20240501T193247Z
LAST-MODIFIED:20240501T193247Z
UID:1981-1612011600-1612020600@stjstmm.org
SUMMARY:Liturgy Registration Form
DESCRIPTION:
URL:https://stjstmm.org/event/liturgy-registration-form-5/
LOCATION:St. John the Beloved and St. Mary Magdalene Coptic Orthodox Church\, 270 Whippany Rd\, Whippany\, New Jersey\, NJ\, 07981\, United States
END:VEVENT
BEGIN:VEVENT
DTSTART;TZID=UTC:20210127T100000
DTEND;TZID=UTC:20210127T120000
DTSTAMP:20260420T110014
CREATED:20240501T193247Z
LAST-MODIFIED:20240501T193247Z
UID:1982-1611741600-1611748800@stjstmm.org
SUMMARY:Liturgy Registration Form
DESCRIPTION:
URL:https://stjstmm.org/event/liturgy-registration-form-6/
LOCATION:St. John the Beloved and St. Mary Magdalene Coptic Orthodox Church\, 270 Whippany Rd\, Whippany\, New Jersey\, NJ\, 07981\, United States
END:VEVENT
BEGIN:VEVENT
DTSTART;TZID=UTC:20210124T130000
DTEND;TZID=UTC:20210124T153000
DTSTAMP:20260420T110014
CREATED:20240501T193246Z
LAST-MODIFIED:20240501T193246Z
UID:1978-1611493200-1611502200@stjstmm.org
SUMMARY:Liturgy Registration Form
DESCRIPTION:
URL:https://stjstmm.org/event/liturgy-registration-form-3/
LOCATION:St. John the Beloved and St. Mary Magdalene Coptic Orthodox Church\, 270 Whippany Rd\, Whippany\, New Jersey\, NJ\, 07981\, United States
END:VEVENT
BEGIN:VEVENT
DTSTART;TZID=UTC:20210122T130000
DTEND;TZID=UTC:20210122T153000
DTSTAMP:20260420T110014
CREATED:20240501T193246Z
LAST-MODIFIED:20240501T193246Z
UID:1977-1611320400-1611329400@stjstmm.org
SUMMARY:Liturgy Registration Form
DESCRIPTION:
URL:https://stjstmm.org/event/liturgy-registration-form-2/
LOCATION:St. John the Beloved and St. Mary Magdalene Coptic Orthodox Church\, 270 Whippany Rd\, Whippany\, New Jersey\, NJ\, 07981\, United States
END:VEVENT
BEGIN:VEVENT
DTSTART;TZID=UTC:20210121T130000
DTEND;TZID=UTC:20210121T153000
DTSTAMP:20260420T110014
CREATED:20240501T193246Z
LAST-MODIFIED:20240501T193246Z
UID:1979-1611234000-1611243000@stjstmm.org
SUMMARY:Feasts Liturgy registration form
DESCRIPTION:
URL:https://stjstmm.org/event/feasts-liturgy-registration-form-2/
LOCATION:St. John the Beloved and St. Mary Magdalene Coptic Orthodox Church\, 270 Whippany Rd\, Whippany\, New Jersey\, NJ\, 07981\, United States
END:VEVENT
BEGIN:VEVENT
DTSTART;TZID=UTC:20210120T100000
DTEND;TZID=UTC:20210120T120000
DTSTAMP:20260420T110014
CREATED:20240501T193247Z
LAST-MODIFIED:20240501T193247Z
UID:1980-1611136800-1611144000@stjstmm.org
SUMMARY:Liturgy Registration Form
DESCRIPTION:
URL:https://stjstmm.org/event/liturgy-registration-form-4/
LOCATION:St. John the Beloved and St. Mary Magdalene Coptic Orthodox Church\, 270 Whippany Rd\, Whippany\, New Jersey\, NJ\, 07981\, United States
END:VEVENT
BEGIN:VEVENT
DTSTART;TZID=UTC:20210118T230000
DTEND;TZID=UTC:20210119T033000
DTSTAMP:20260420T110014
CREATED:20240501T193245Z
LAST-MODIFIED:20240501T193245Z
UID:1976-1611010800-1611027000@stjstmm.org
SUMMARY:Feasts Liturgy registration form
DESCRIPTION:
URL:https://stjstmm.org/event/feasts-liturgy-registration-form/
LOCATION:St. John the Beloved and St. Mary Magdalene Coptic Orthodox Church\, 270 Whippany Rd\, Whippany\, New Jersey\, NJ\, 07981\, United States
END:VEVENT
BEGIN:VEVENT
DTSTART;TZID=UTC:20210117T130000
DTEND;TZID=UTC:20210117T153000
DTSTAMP:20260420T110014
CREATED:20240501T193245Z
LAST-MODIFIED:20240501T193245Z
UID:1975-1610888400-1610897400@stjstmm.org
SUMMARY:Liturgy Registration Form
DESCRIPTION:
URL:https://stjstmm.org/event/liturgy-registration-form/
LOCATION:St. John the Beloved and St. Mary Magdalene Coptic Orthodox Church\, 270 Whippany Rd\, Whippany\, New Jersey\, NJ\, 07981\, United States
END:VEVENT
BEGIN:VEVENT
DTSTART;TZID=UTC:20200228T150000
DTEND;TZID=UTC:20200228T180000
DTSTAMP:20260420T110014
CREATED:20240501T220049Z
LAST-MODIFIED:20240501T220049Z
UID:2040-1582902000-1582912800@stjstmm.org
SUMMARY:Holy Lent Liturgy
DESCRIPTION:
URL:https://stjstmm.org/event/holy-lent-liturgy/
LOCATION:St. John the Beloved and St. Mary Magdalene Coptic Orthodox Church\, 270 Whippany Rd\, Whippany\, New Jersey\, NJ\, 07981\, United States
END:VEVENT
BEGIN:VEVENT
DTSTART;TZID=UTC:20200211T130000
DTEND;TZID=UTC:20200211T153000
DTSTAMP:20260420T110014
CREATED:20240501T220049Z
LAST-MODIFIED:20240501T220049Z
UID:2038-1581426000-1581435000@stjstmm.org
SUMMARY:Jonah's Fast Holy Liturgy
DESCRIPTION:
URL:https://stjstmm.org/event/jonahs-fast-holy-liturgy-2/
LOCATION:St. John the Beloved and St. Mary Magdalene Coptic Orthodox Church\, 270 Whippany Rd\, Whippany\, New Jersey\, NJ\, 07981\, United States
END:VEVENT
BEGIN:VEVENT
DTSTART;TZID=UTC:20200210T200000
DTEND;TZID=UTC:20200210T230000
DTSTAMP:20260420T110014
CREATED:20240501T220049Z
LAST-MODIFIED:20240501T220049Z
UID:2037-1581364800-1581375600@stjstmm.org
SUMMARY:Jonah's Fast Holy Liturgy
DESCRIPTION:
URL:https://stjstmm.org/event/jonahs-fast-holy-liturgy/
LOCATION:St. John the Beloved and St. Mary Magdalene Coptic Orthodox Church\, 270 Whippany Rd\, Whippany\, New Jersey\, NJ\, 07981\, United States
END:VEVENT
BEGIN:VEVENT
DTSTART;TZID=UTC:20200101T020000
DTEND;TZID=UTC:20200101T073000
DTSTAMP:20260420T110014
CREATED:20240501T220049Z
LAST-MODIFIED:20240501T220049Z
UID:2039-1577844000-1577863800@stjstmm.org
SUMMARY:New Year's Eve Prayer and Liturgy
DESCRIPTION:
URL:https://stjstmm.org/event/new-years-eve-prayer-and-liturgy/
LOCATION:St. John the Beloved and St. Mary Magdalene Coptic Orthodox Church\, 270 Whippany Rd\, Whippany\, New Jersey\, NJ\, 07981\, United States
END:VEVENT
END:VCALENDAR