BEGIN:VCALENDAR
VERSION:2.0
PRODID:-//STJSTMM - ECPv6.15.16//NONSGML v1.0//EN
CALSCALE:GREGORIAN
METHOD:PUBLISH
X-ORIGINAL-URL:https://stjstmm.org
X-WR-CALDESC:Events for STJSTMM
REFRESH-INTERVAL;VALUE=DURATION:PT1H
X-Robots-Tag:noindex
X-PUBLISHED-TTL:PT1H
BEGIN:VTIMEZONE
TZID:UTC
BEGIN:STANDARD
TZOFFSETFROM:+0000
TZOFFSETTO:+0000
TZNAME:UTC
DTSTART:20210101T000000
END:STANDARD
END:VTIMEZONE
BEGIN:VEVENT
DTSTART;TZID=UTC:20220304T200000
DTEND;TZID=UTC:20220304T230000
DTSTAMP:20260424T191551
CREATED:20240501T215943Z
LAST-MODIFIED:20240501T215943Z
UID:2015-1646424000-1646434800@stjstmm.org
SUMMARY:Holy Liturgy
DESCRIPTION:
URL:https://stjstmm.org/event/holy-liturgy/
LOCATION:St. John the Beloved and St. Mary Magdalene Coptic Orthodox Church\, 270 Whippany Rd\, Whippany\, New Jersey\, NJ\, 07981\, United States
END:VEVENT
BEGIN:VEVENT
DTSTART;TZID=UTC:20220305T130000
DTEND;TZID=UTC:20220305T170000
DTSTAMP:20260424T191551
CREATED:20240501T215957Z
LAST-MODIFIED:20240501T215957Z
UID:2019-1646485200-1646499600@stjstmm.org
SUMMARY:Holy Liturgy with his Holiness Bishop David
DESCRIPTION:
URL:https://stjstmm.org/event/holy-liturgy-with-his-holiness-bishop-david/
LOCATION:St. John the Beloved and St. Mary Magdalene Coptic Orthodox Church\, 270 Whippany Rd\, Whippany\, New Jersey\, NJ\, 07981\, United States
END:VEVENT
BEGIN:VEVENT
DTSTART;TZID=UTC:20220311T200000
DTEND;TZID=UTC:20220311T230000
DTSTAMP:20260424T191551
CREATED:20240501T220033Z
LAST-MODIFIED:20240501T220033Z
UID:2034-1647028800-1647039600@stjstmm.org
SUMMARY:Holy Liturgy
DESCRIPTION:
URL:https://stjstmm.org/event/holy-liturgy-9/
LOCATION:St. John the Beloved and St. Mary Magdalene Coptic Orthodox Church\, 270 Whippany Rd\, Whippany\, New Jersey\, NJ\, 07981\, United States
END:VEVENT
BEGIN:VEVENT
DTSTART;TZID=UTC:20220319T120000
DTEND;TZID=UTC:20220319T143000
DTSTAMP:20260424T191551
CREATED:20240501T220032Z
LAST-MODIFIED:20240501T220032Z
UID:2032-1647691200-1647700200@stjstmm.org
SUMMARY:Holy Liturgy Feast of the Cross
DESCRIPTION:
URL:https://stjstmm.org/event/holy-liturgy-feast-of-the-cross/
LOCATION:St. John the Beloved and St. Mary Magdalene Coptic Orthodox Church\, 270 Whippany Rd\, Whippany\, New Jersey\, NJ\, 07981\, United States
END:VEVENT
BEGIN:VEVENT
DTSTART;TZID=UTC:20220325T190000
DTEND;TZID=UTC:20220325T220000
DTSTAMP:20260424T191551
CREATED:20240501T215957Z
LAST-MODIFIED:20240501T215957Z
UID:2020-1648234800-1648245600@stjstmm.org
SUMMARY:Holy Liturgy
DESCRIPTION:
URL:https://stjstmm.org/event/holy-liturgy-2/
LOCATION:St. John the Beloved and St. Mary Magdalene Coptic Orthodox Church\, 270 Whippany Rd\, Whippany\, New Jersey\, NJ\, 07981\, United States
END:VEVENT
END:VCALENDAR